BEGIN:VCALENDAR
VERSION:2.0
PRODID:-//Fletewood School Plymouth - ECPv6.15.4//NONSGML v1.0//EN
CALSCALE:GREGORIAN
METHOD:PUBLISH
X-ORIGINAL-URL:https://fletewoodschool.co.uk
X-WR-CALDESC:Events for Fletewood School Plymouth
REFRESH-INTERVAL;VALUE=DURATION:PT1H
X-Robots-Tag:noindex
X-PUBLISHED-TTL:PT1H
BEGIN:VTIMEZONE
TZID:Europe/London
BEGIN:DAYLIGHT
TZOFFSETFROM:+0000
TZOFFSETTO:+0100
TZNAME:BST
DTSTART:20250330T010000
END:DAYLIGHT
BEGIN:STANDARD
TZOFFSETFROM:+0100
TZOFFSETTO:+0000
TZNAME:GMT
DTSTART:20251026T010000
END:STANDARD
END:VTIMEZONE
BEGIN:VEVENT
DTSTART;TZID=Europe/London:20250717T080000
DTEND;TZID=Europe/London:20250829T170000
DTSTAMP:20260424T130419
CREATED:20240119T111415Z
LAST-MODIFIED:20240119T111415Z
UID:5696-1752739200-1756486800@fletewoodschool.co.uk
SUMMARY:Summer holidays
DESCRIPTION:
URL:https://fletewoodschool.co.uk/event/summer-holidays-7/
CATEGORIES:School Holidays
END:VEVENT
END:VCALENDAR