BEGIN:VCALENDAR
VERSION:2.0
PRODID:-//Fletewood School Plymouth - ECPv6.15.4//NONSGML v1.0//EN
CALSCALE:GREGORIAN
METHOD:PUBLISH
X-WR-CALNAME:Fletewood School Plymouth
X-ORIGINAL-URL:https://fletewoodschool.co.uk
X-WR-CALDESC:Events for Fletewood School Plymouth
REFRESH-INTERVAL;VALUE=DURATION:PT1H
X-Robots-Tag:noindex
X-PUBLISHED-TTL:PT1H
BEGIN:VTIMEZONE
TZID:Europe/London
BEGIN:DAYLIGHT
TZOFFSETFROM:+0000
TZOFFSETTO:+0100
TZNAME:BST
DTSTART:20250330T010000
END:DAYLIGHT
BEGIN:STANDARD
TZOFFSETFROM:+0100
TZOFFSETTO:+0000
TZNAME:GMT
DTSTART:20251026T010000
END:STANDARD
END:VTIMEZONE
BEGIN:VEVENT
DTSTART;TZID=Europe/London:20250602T080000
DTEND;TZID=Europe/London:20250602T170000
DTSTAMP:20260424T153442
CREATED:20240119T110918Z
LAST-MODIFIED:20240119T110918Z
UID:5690-1748851200-1748883600@fletewoodschool.co.uk
SUMMARY:Training day
DESCRIPTION:
URL:https://fletewoodschool.co.uk/event/training-day-9/
CATEGORIES:Training Day
END:VEVENT
BEGIN:VEVENT
DTSTART;TZID=Europe/London:20250609T080000
DTEND;TZID=Europe/London:20250613T170000
DTSTAMP:20260424T153442
CREATED:20240119T111008Z
LAST-MODIFIED:20240119T111008Z
UID:5691-1749456000-1749834000@fletewoodschool.co.uk
SUMMARY:Chapel Porth - Class 4
DESCRIPTION:
URL:https://fletewoodschool.co.uk/event/chapel-porth-class-4-2/
CATEGORIES:School Trips
END:VEVENT
BEGIN:VEVENT
DTSTART;TZID=Europe/London:20250624T080000
DTEND;TZID=Europe/London:20250624T170000
DTSTAMP:20260424T153442
CREATED:20240119T111040Z
LAST-MODIFIED:20240119T111040Z
UID:5692-1750752000-1750784400@fletewoodschool.co.uk
SUMMARY:Sports day
DESCRIPTION:
URL:https://fletewoodschool.co.uk/event/sports-day-10/
CATEGORIES:Activity Days
END:VEVENT
END:VCALENDAR